BEGIN:VCALENDAR
VERSION:2.0
PRODID:-//Plone.org//NONSGML plone.app.event//EN
X-WR-TIMEZONE:Europe/Zurich
BEGIN:VEVENT
SUMMARY:Jazz im Kloster - Konzert 1: Trio Müller Kramis Baschnagel
DTSTART;TZID=Europe/Zurich;VALUE=DATE-TIME:20210819T200000
DTSTAMP;VALUE=DATE-TIME:20260420T201044Z
UID:798e195874ce413da9f3661dcd36346d@localhost:10681
CREATED;VALUE=DATE-TIME:20210521T120004Z
LAST-MODIFIED;VALUE=DATE-TIME:20210521T120915Z
LOCATION:Kloster Kappel
URL:https://www.bluechurch.ch/events/jazz-im-kloster-konzert-mueller-krami
 s-baschnagel
END:VEVENT
BEGIN:VTIMEZONE
TZID:Europe/Zurich
X-LIC-LOCATION:Europe/Zurich
BEGIN:DAYLIGHT
DTSTART;VALUE=DATE-TIME:20210328T030000
TZNAME:CEST
TZOFFSETFROM:+0100
TZOFFSETTO:+0200
END:DAYLIGHT
END:VTIMEZONE
END:VCALENDAR
