BEGIN:VCALENDAR
VERSION:2.0
PRODID:-//Plone.org//NONSGML plone.app.event//EN
X-WR-TIMEZONE:Europe/Zurich
BEGIN:VEVENT
SUMMARY:Jazz im Kloster - Konzert 2: Yves Theiler Trio
DTSTART;TZID=Europe/Zurich;VALUE=DATE-TIME:20210820T200000
DTSTAMP;VALUE=DATE-TIME:20260420T201121Z
UID:d5069ae2962a46168b7198acfb5f266f@localhost:10681
CREATED;VALUE=DATE-TIME:20210521T120726Z
LAST-MODIFIED;VALUE=DATE-TIME:20210521T121405Z
LOCATION:Kloster Kappel
URL:https://www.bluechurch.ch/events/jazz-im-kloster-konzert-2-yves-theile
 r-trio
END:VEVENT
BEGIN:VTIMEZONE
TZID:Europe/Zurich
X-LIC-LOCATION:Europe/Zurich
BEGIN:DAYLIGHT
DTSTART;VALUE=DATE-TIME:20210328T030000
TZNAME:CEST
TZOFFSETFROM:+0100
TZOFFSETTO:+0200
END:DAYLIGHT
END:VTIMEZONE
END:VCALENDAR
