BEGIN:VCALENDAR
VERSION:2.0
PRODID:-//Plone.org//NONSGML plone.app.event//EN
X-WR-TIMEZONE:Europe/Zurich
BEGIN:VEVENT
SUMMARY:Jazz im Kloster - Jazzgottesdienst
DTSTART;TZID=Europe/Zurich;VALUE=DATE-TIME:20210822T100000
DTSTAMP;VALUE=DATE-TIME:20260420T201002Z
UID:6e4abf4bf6f04622ab7435e2527a4122@localhost:10681
CREATED;VALUE=DATE-TIME:20210521T121902Z
LAST-MODIFIED;VALUE=DATE-TIME:20210521T122000Z
LOCATION:Kloster Kappel
URL:https://www.bluechurch.ch/events/jazz-im-kloster-jazzgottesdienst
END:VEVENT
BEGIN:VTIMEZONE
TZID:Europe/Zurich
X-LIC-LOCATION:Europe/Zurich
BEGIN:DAYLIGHT
DTSTART;VALUE=DATE-TIME:20210328T030000
TZNAME:CEST
TZOFFSETFROM:+0100
TZOFFSETTO:+0200
END:DAYLIGHT
END:VTIMEZONE
END:VCALENDAR
