BEGIN:VCALENDAR
VERSION:2.0
PRODID:-//Plone.org//NONSGML plone.app.event//EN
X-WR-TIMEZONE:Europe/Zurich
BEGIN:VEVENT
SUMMARY:Jazz-Gottesdienst zum Muttertag
DTSTART;TZID=Europe/Zurich;VALUE=DATE-TIME:20210509T100000
DTSTAMP;VALUE=DATE-TIME:20260420T183448Z
UID:98e72c9749e347ae86ef5898685d9806@localhost:10681
CREATED;VALUE=DATE-TIME:20210223T162427Z
LAST-MODIFIED;VALUE=DATE-TIME:20210421T142732Z
LOCATION:Kirche Herblingen
URL:https://www.bluechurch.ch/events/jazz-gottesdienst-zum-muttertag
END:VEVENT
BEGIN:VTIMEZONE
TZID:Europe/Zurich
X-LIC-LOCATION:Europe/Zurich
BEGIN:DAYLIGHT
DTSTART;VALUE=DATE-TIME:20210328T030000
TZNAME:CEST
TZOFFSETFROM:+0100
TZOFFSETTO:+0200
END:DAYLIGHT
END:VTIMEZONE
END:VCALENDAR
