BEGIN:VCALENDAR
VERSION:2.0
PRODID:-//Plone.org//NONSGML plone.app.event//EN
X-WR-TIMEZONE:Europe/Zurich
BEGIN:VEVENT
SUMMARY:Jazz-Gottesdienst mit Adrian Frey\, George Marti\, Simon Wyrsch\, 
 Tony Renold
DTSTART;TZID=Europe/Zurich;VALUE=DATE-TIME:20220313T190000
DTSTAMP;VALUE=DATE-TIME:20260420T214434Z
UID:97ed6a1db95f4a3197d47129bbed9539@localhost:10681
CREATED;VALUE=DATE-TIME:20220205T165754Z
LAST-MODIFIED;VALUE=DATE-TIME:20220308T171227Z
LOCATION:Jazzkirche Zürich\, Neue Kirche Albisrieden\, Ginsterstrasse 50
URL:https://www.bluechurch.ch/events/jazz-gottesdienst-mit-adrian-frey-geo
 rge-marti-simon-wyrsch-tony-renold
END:VEVENT
BEGIN:VTIMEZONE
TZID:Europe/Zurich
X-LIC-LOCATION:Europe/Zurich
BEGIN:STANDARD
DTSTART;VALUE=DATE-TIME:20211031T020000
TZNAME:CET
TZOFFSETFROM:+0200
TZOFFSETTO:+0100
END:STANDARD
END:VTIMEZONE
END:VCALENDAR
