BEGIN:VCALENDAR
VERSION:2.0
PRODID:-//Plone.org//NONSGML plone.app.event//EN
X-WR-TIMEZONE:Europe/Zurich
BEGIN:VEVENT
SUMMARY:Jazz-Gottesdienst in der Jazzkirche Zürich
DTSTART;TZID=Europe/Zurich;VALUE=DATE-TIME:20261025T190000
DTSTAMP;VALUE=DATE-TIME:20260419T174212Z
UID:1b6dbda879254dbe9e44832573f4a9fa@localhost:10681
CREATED;VALUE=DATE-TIME:20251212T164804Z
LAST-MODIFIED;VALUE=DATE-TIME:20251212T164804Z
LOCATION:Neue Kirche Albisrieden\, Ginsterstrasse 48
URL:https://www.bluechurch.ch/events/jazz-gottesdienst-in-der-jazzkirche-z
 uerich-7
END:VEVENT
BEGIN:VTIMEZONE
TZID:Europe/Zurich
X-LIC-LOCATION:Europe/Zurich
BEGIN:STANDARD
DTSTART;VALUE=DATE-TIME:20261025T020000
TZNAME:CET
TZOFFSETFROM:+0200
TZOFFSETTO:+0100
END:STANDARD
END:VTIMEZONE
END:VCALENDAR
