BEGIN:VCALENDAR
VERSION:2.0
PRODID:-//Plone.org//NONSGML plone.app.event//EN
X-WR-TIMEZONE:Europe/Zurich
BEGIN:VEVENT
SUMMARY:Jazz-Gottesdienst
DTSTART;TZID=Europe/Zurich;VALUE=DATE-TIME:20220828T100000
DTSTAMP;VALUE=DATE-TIME:20260420T231529Z
UID:6b3c3f597f784ed697b7e5f9657c79e6@localhost:10681
CREATED;VALUE=DATE-TIME:20220818T170451Z
LAST-MODIFIED;VALUE=DATE-TIME:20220818T170618Z
LOCATION:Kirche Herblingen
URL:https://www.bluechurch.ch/events/jazz-gottesdienst-5
END:VEVENT
BEGIN:VTIMEZONE
TZID:Europe/Zurich
X-LIC-LOCATION:Europe/Zurich
BEGIN:DAYLIGHT
DTSTART;VALUE=DATE-TIME:20220327T030000
TZNAME:CEST
TZOFFSETFROM:+0100
TZOFFSETTO:+0200
END:DAYLIGHT
END:VTIMEZONE
END:VCALENDAR
