BEGIN:VCALENDAR
VERSION:2.0
PRODID:-//Plone.org//NONSGML plone.app.event//EN
X-WR-TIMEZONE:Europe/Zurich
BEGIN:VEVENT
SUMMARY:Jazzgottesdienst mit George Marti (pos)\, Simon Wyrsch (cl)\, Yves
  Theiler (p)\, Pfr. Martin Scheidegger
DTSTART;TZID=Europe/Zurich;VALUE=DATE-TIME:20220116T190000
DTSTAMP;VALUE=DATE-TIME:20260420T214028Z
UID:8b676a5677ab42fdb0b82a71c16b653a@localhost:10681
CREATED;VALUE=DATE-TIME:20211221T172522Z
LAST-MODIFIED;VALUE=DATE-TIME:20220110T124256Z
LOCATION:Jazzkirche Zürich\, Ginsterstrasse 50\, Neue Kirche Albisrieden
URL:https://www.bluechurch.ch/events/jazz-gottesdienst-3
END:VEVENT
BEGIN:VTIMEZONE
TZID:Europe/Zurich
X-LIC-LOCATION:Europe/Zurich
BEGIN:STANDARD
DTSTART;VALUE=DATE-TIME:20211031T020000
TZNAME:CET
TZOFFSETFROM:+0200
TZOFFSETTO:+0100
END:STANDARD
END:VTIMEZONE
END:VCALENDAR
