BEGIN:VCALENDAR
VERSION:2.0
PRODID:-//Plone.org//NONSGML plone.app.event//EN
X-WR-TIMEZONE:Europe/Zurich
BEGIN:VEVENT
SUMMARY:Jazz-Gottesdienst
DTSTART;TZID=Europe/Zurich;VALUE=DATE-TIME:20211114T100000
DTSTAMP;VALUE=DATE-TIME:20260420T214022Z
UID:e5174a76c8bc4122be02912d649a6b28@localhost:10681
CREATED;VALUE=DATE-TIME:20211107T165833Z
LAST-MODIFIED;VALUE=DATE-TIME:20211107T170131Z
LOCATION:Kirche Herblingen
URL:https://www.bluechurch.ch/events/jazz-gottesdienst-2
END:VEVENT
BEGIN:VTIMEZONE
TZID:Europe/Zurich
X-LIC-LOCATION:Europe/Zurich
BEGIN:STANDARD
DTSTART;VALUE=DATE-TIME:20211031T020000
TZNAME:CET
TZOFFSETFROM:+0200
TZOFFSETTO:+0100
END:STANDARD
END:VTIMEZONE
END:VCALENDAR
