BEGIN:VCALENDAR
VERSION:2.0
PRODID:-//Plone.org//NONSGML plone.app.event//EN
X-WR-TIMEZONE:Europe/Zurich
BEGIN:VEVENT
SUMMARY:Jazz-Gottesdienst
DTSTART;TZID=Europe/Zurich;VALUE=DATE-TIME:20260426T190000
DTSTAMP;VALUE=DATE-TIME:20260420T102804Z
UID:0ebe917322314d0ab066a9ae7cd86353@localhost:10681
CREATED;VALUE=DATE-TIME:20250130T094403Z
LAST-MODIFIED;VALUE=DATE-TIME:20250130T094403Z
LOCATION:Dorfkirche Kleinhüningen
URL:https://www.bluechurch.ch/events/jazz-gottesdienst-17
END:VEVENT
BEGIN:VTIMEZONE
TZID:Europe/Zurich
X-LIC-LOCATION:Europe/Zurich
BEGIN:DAYLIGHT
DTSTART;VALUE=DATE-TIME:20260329T030000
TZNAME:CEST
TZOFFSETFROM:+0100
TZOFFSETTO:+0200
END:DAYLIGHT
END:VTIMEZONE
END:VCALENDAR
