BEGIN:VCALENDAR
VERSION:2.0
PRODID:-//Plone.org//NONSGML plone.app.event//EN
X-WR-TIMEZONE:Europe/Zurich
BEGIN:VEVENT
SUMMARY:Jazz-Gottesdienst
DTSTART;TZID=Europe/Zurich;VALUE=DATE-TIME:20190331T100000
DTSTAMP;VALUE=DATE-TIME:20260420T170320Z
UID:b99a6699d245408c8758da7e9ce7416a@localhost:10681
CREATED;VALUE=DATE-TIME:20190202T115417Z
LAST-MODIFIED;VALUE=DATE-TIME:20190318T142759Z
LOCATION:Reformierte Kirche Stäfa
URL:https://www.bluechurch.ch/events/jazz-gottesdienst-1
END:VEVENT
BEGIN:VTIMEZONE
TZID:Europe/Zurich
X-LIC-LOCATION:Europe/Zurich
BEGIN:DAYLIGHT
DTSTART;VALUE=DATE-TIME:20190331T030000
TZNAME:CEST
TZOFFSETFROM:+0100
TZOFFSETTO:+0200
END:DAYLIGHT
END:VTIMEZONE
END:VCALENDAR
