BEGIN:VCALENDAR
VERSION:2.0
PRODID:-//Plone.org//NONSGML plone.app.event//EN
X-WR-TIMEZONE:Europe/Zurich
BEGIN:VEVENT
SUMMARY:Jazz-Begegnungen mit Dietrich Bonhoeffer
DTSTART;TZID=Europe/Zurich;VALUE=DATE-TIME:20190329T190000
DTSTAMP;VALUE=DATE-TIME:20260420T170621Z
UID:56b7dd9e43b641729e79c4820f6c7a35@localhost:10681
CREATED;VALUE=DATE-TIME:20190329T074152Z
LAST-MODIFIED;VALUE=DATE-TIME:20190329T074152Z
LOCATION:Süsterkirche Bielefeld-Innenstadt
URL:https://www.bluechurch.ch/events/jazz-begegnungen-mit-dietrich-bonhoef
 fer
END:VEVENT
BEGIN:VTIMEZONE
TZID:Europe/Zurich
X-LIC-LOCATION:Europe/Zurich
BEGIN:STANDARD
DTSTART;VALUE=DATE-TIME:20181028T020000
TZNAME:CET
TZOFFSETFROM:+0200
TZOFFSETTO:+0100
END:STANDARD
END:VTIMEZONE
END:VCALENDAR
