BEGIN:VCALENDAR
VERSION:2.0
PRODID:-//Plone.org//NONSGML plone.app.event//EN
X-WR-TIMEZONE:Europe/Zurich
BEGIN:VEVENT
SUMMARY:Jazz-Abendgottesdienst
DTSTART;TZID=Europe/Zurich;VALUE=DATE-TIME:20210829T190000
DTSTAMP;VALUE=DATE-TIME:20260420T200838Z
UID:e5d50d606ede467d937d00969effe08e@localhost:10681
CREATED;VALUE=DATE-TIME:20210803T075848Z
LAST-MODIFIED;VALUE=DATE-TIME:20210803T080039Z
LOCATION:Evangelische Kirche
URL:https://www.bluechurch.ch/events/jazz-abendgottesdienst
END:VEVENT
BEGIN:VTIMEZONE
TZID:Europe/Zurich
X-LIC-LOCATION:Europe/Zurich
BEGIN:DAYLIGHT
DTSTART;VALUE=DATE-TIME:20210328T030000
TZNAME:CEST
TZOFFSETFROM:+0100
TZOFFSETTO:+0200
END:DAYLIGHT
END:VTIMEZONE
END:VCALENDAR
