BEGIN:VCALENDAR
VERSION:2.0
PRODID:-//Plone.org//NONSGML plone.app.event//EN
X-WR-TIMEZONE:Europe/Zurich
BEGIN:VEVENT
SUMMARY:Jam Session
DTSTART;TZID=Europe/Zurich;VALUE=DATE-TIME:20190621T220000
DTSTAMP;VALUE=DATE-TIME:20260420T102308Z
UID:f5224e1768dc4cc1b7788c5a37e0d39d@localhost:10681
CREATED;VALUE=DATE-TIME:20190328T170310Z
LAST-MODIFIED;VALUE=DATE-TIME:20190328T170515Z
LOCATION:Lütgendortmund\, Bartholomäuskirche
URL:https://www.bluechurch.ch/events/jam-session
END:VEVENT
BEGIN:VTIMEZONE
TZID:Europe/Zurich
X-LIC-LOCATION:Europe/Zurich
BEGIN:DAYLIGHT
DTSTART;VALUE=DATE-TIME:20190331T030000
TZNAME:CEST
TZOFFSETFROM:+0100
TZOFFSETTO:+0200
END:DAYLIGHT
END:VTIMEZONE
END:VCALENDAR
