BEGIN:VCALENDAR
VERSION:2.0
PRODID:-//Plone.org//NONSGML plone.app.event//EN
X-WR-TIMEZONE:Europe/Zurich
BEGIN:VEVENT
SUMMARY:It's Huldrych!
DTSTART;TZID=Europe/Zurich;VALUE=DATE-TIME:20190622T203000
DTSTAMP;VALUE=DATE-TIME:20260420T152818Z
UID:39b2fffd45474400a78a1f8c83353cfb@localhost:10681
CREATED;VALUE=DATE-TIME:20190328T164533Z
LAST-MODIFIED;VALUE=DATE-TIME:20190404T162201Z
LOCATION:Lütgendortmund\, Bartholomäuskirche
URL:https://www.bluechurch.ch/events/its-huldrych
END:VEVENT
BEGIN:VTIMEZONE
TZID:Europe/Zurich
X-LIC-LOCATION:Europe/Zurich
BEGIN:DAYLIGHT
DTSTART;VALUE=DATE-TIME:20190331T030000
TZNAME:CEST
TZOFFSETFROM:+0100
TZOFFSETTO:+0200
END:DAYLIGHT
END:VTIMEZONE
END:VCALENDAR
