BEGIN:VCALENDAR
VERSION:2.0
PRODID:-//Plone.org//NONSGML plone.app.event//EN
X-WR-TIMEZONE:Europe/Zurich
BEGIN:VEVENT
SUMMARY:It's Huldrych! / Schweizer Premiere
DTSTART;TZID=Europe/Zurich;VALUE=DATE-TIME:20190623T203000
DTSTAMP;VALUE=DATE-TIME:20260420T152959Z
UID:7657aaf3989f42538467c4dc1151a019@localhost:10681
CREATED;VALUE=DATE-TIME:20190401T102238Z
LAST-MODIFIED;VALUE=DATE-TIME:20190527T101559Z
LOCATION:Kreuzkirche / Dolderstrasse 60
URL:https://www.bluechurch.ch/events/its-huldrych-schweizer-premiere
END:VEVENT
BEGIN:VTIMEZONE
TZID:Europe/Zurich
X-LIC-LOCATION:Europe/Zurich
BEGIN:DAYLIGHT
DTSTART;VALUE=DATE-TIME:20190331T030000
TZNAME:CEST
TZOFFSETFROM:+0100
TZOFFSETTO:+0200
END:DAYLIGHT
END:VTIMEZONE
END:VCALENDAR
