BEGIN:VCALENDAR
VERSION:2.0
PRODID:-//Plone.org//NONSGML plone.app.event//EN
X-WR-TIMEZONE:Europe/Zurich
BEGIN:VEVENT
SUMMARY:InSpirit - Jazz als spirituelles Musikerlebnis
DTSTART;TZID=Europe/Zurich;VALUE=DATE-TIME:20220721T210000
DTSTAMP;VALUE=DATE-TIME:20260420T231947Z
UID:aa8025fcb3f54b948cd1546255c3a8ae@localhost:10681
CREATED;VALUE=DATE-TIME:20220715T173611Z
LAST-MODIFIED;VALUE=DATE-TIME:20220715T173611Z
LOCATION:Kaiser-Wilhelm-Gedächtnis-Kirche
URL:https://www.bluechurch.ch/events/inspirit-jazz-als-spirituelles-musike
 rlebnis-9
END:VEVENT
BEGIN:VTIMEZONE
TZID:Europe/Zurich
X-LIC-LOCATION:Europe/Zurich
BEGIN:DAYLIGHT
DTSTART;VALUE=DATE-TIME:20220327T030000
TZNAME:CEST
TZOFFSETFROM:+0100
TZOFFSETTO:+0200
END:DAYLIGHT
END:VTIMEZONE
END:VCALENDAR
