BEGIN:VCALENDAR
VERSION:2.0
PRODID:-//Plone.org//NONSGML plone.app.event//EN
X-WR-TIMEZONE:Europe/Zurich
BEGIN:VEVENT
SUMMARY:InSpirit - Jazz als spirituelles Musikerlebnis
DTSTART;TZID=Europe/Zurich;VALUE=DATE-TIME:20210805T210000
DTSTAMP;VALUE=DATE-TIME:20260420T201220Z
UID:2a32536c6b5e4b2386ce6b4ce65bd0f4@localhost:10681
CREATED;VALUE=DATE-TIME:20210715T080855Z
LAST-MODIFIED;VALUE=DATE-TIME:20210715T080855Z
LOCATION:Kaiser-Wilhelm-Gedächtnis-Kirche
URL:https://www.bluechurch.ch/events/inspirit-jazz-als-spirituelles-musike
 rlebnis-3
END:VEVENT
BEGIN:VTIMEZONE
TZID:Europe/Zurich
X-LIC-LOCATION:Europe/Zurich
BEGIN:DAYLIGHT
DTSTART;VALUE=DATE-TIME:20210328T030000
TZNAME:CEST
TZOFFSETFROM:+0100
TZOFFSETTO:+0200
END:DAYLIGHT
END:VTIMEZONE
END:VCALENDAR
