BEGIN:VCALENDAR
VERSION:2.0
PRODID:-//Plone.org//NONSGML plone.app.event//EN
X-WR-TIMEZONE:Europe/Zurich
BEGIN:VEVENT
SUMMARY:InSpirit - Jazz als spirituelles Musikerlebnis
DTSTART;TZID=Europe/Zurich;VALUE=DATE-TIME:20210729T210000
DTSTAMP;VALUE=DATE-TIME:20260420T201110Z
UID:95f0f0cc7c0e4b1f9b72a1b31699a7e0@localhost:10681
CREATED;VALUE=DATE-TIME:20210715T080506Z
LAST-MODIFIED;VALUE=DATE-TIME:20210715T080506Z
LOCATION:Kaiser-Wilhelm-Gedächtnis-Kirche
URL:https://www.bluechurch.ch/events/inspirit-jazz-als-spirituelles-musike
 rlebnis-2
END:VEVENT
BEGIN:VTIMEZONE
TZID:Europe/Zurich
X-LIC-LOCATION:Europe/Zurich
BEGIN:DAYLIGHT
DTSTART;VALUE=DATE-TIME:20210328T030000
TZNAME:CEST
TZOFFSETFROM:+0100
TZOFFSETTO:+0200
END:DAYLIGHT
END:VTIMEZONE
END:VCALENDAR
