BEGIN:VCALENDAR
VERSION:2.0
PRODID:-//Plone.org//NONSGML plone.app.event//EN
X-WR-TIMEZONE:Europe/Zurich
BEGIN:VEVENT
SUMMARY:InSpirit - Jazz als spirituelles Musikerlebnis
DTSTART;TZID=Europe/Zurich;VALUE=DATE-TIME:20220804T210000
DTSTAMP;VALUE=DATE-TIME:20260420T232152Z
UID:86257f6d54d043769722b49bf79f2e12@localhost:10681
CREATED;VALUE=DATE-TIME:20220803T172915Z
LAST-MODIFIED;VALUE=DATE-TIME:20220803T172916Z
LOCATION:Kaiser-Wilhelm-Gedächtnis-Kirche
URL:https://www.bluechurch.ch/events/inspirit-jazz-als-spirituelles-musike
 rlebnis-10
END:VEVENT
BEGIN:VTIMEZONE
TZID:Europe/Zurich
X-LIC-LOCATION:Europe/Zurich
BEGIN:DAYLIGHT
DTSTART;VALUE=DATE-TIME:20220327T030000
TZNAME:CEST
TZOFFSETFROM:+0100
TZOFFSETTO:+0200
END:DAYLIGHT
END:VTIMEZONE
END:VCALENDAR
