BEGIN:VCALENDAR
VERSION:2.0
PRODID:-//Plone.org//NONSGML plone.app.event//EN
X-WR-TIMEZONE:Europe/Zurich
BEGIN:VEVENT
SUMMARY:InSpirit - Jazz als spirituelles Musikererlebnis
DTSTART;TZID=Europe/Zurich;VALUE=DATE-TIME:20210708T210000
DTSTAMP;VALUE=DATE-TIME:20260420T201110Z
UID:bcabc0ff52ab42f8aa9e27df1a6b6f7d@localhost:10681
CREATED;VALUE=DATE-TIME:20210626T114227Z
LAST-MODIFIED;VALUE=DATE-TIME:20210626T114518Z
LOCATION:Kaiser-Wilhelm-Gedächtnis-Kirche
URL:https://www.bluechurch.ch/events/inspirit-jazz-als-spirituelles-musike
 rerlebnis
END:VEVENT
BEGIN:VTIMEZONE
TZID:Europe/Zurich
X-LIC-LOCATION:Europe/Zurich
BEGIN:DAYLIGHT
DTSTART;VALUE=DATE-TIME:20210328T030000
TZNAME:CEST
TZOFFSETFROM:+0100
TZOFFSETTO:+0200
END:DAYLIGHT
END:VTIMEZONE
END:VCALENDAR
