BEGIN:VCALENDAR
VERSION:2.0
PRODID:-//Plone.org//NONSGML plone.app.event//EN
X-WR-TIMEZONE:Europe/Zurich
BEGIN:VEVENT
SUMMARY:InSpirit - Jazz als spirituelles Musikererlebnis
DTSTART;TZID=Europe/Zurich;VALUE=DATE-TIME:20210715T210000
DTSTAMP;VALUE=DATE-TIME:20260420T201214Z
UID:13e477c3f2b54a1e8f96c53f37f670c8@localhost:10681
CREATED;VALUE=DATE-TIME:20210626T114925Z
LAST-MODIFIED;VALUE=DATE-TIME:20210626T114925Z
LOCATION:Kaiser-Wilhelm-Gedächtnis-Kirche
URL:https://www.bluechurch.ch/events/inspirit-jazz-als-spirituelles-musike
 rerlebnis-1
END:VEVENT
BEGIN:VTIMEZONE
TZID:Europe/Zurich
X-LIC-LOCATION:Europe/Zurich
BEGIN:DAYLIGHT
DTSTART;VALUE=DATE-TIME:20210328T030000
TZNAME:CEST
TZOFFSETFROM:+0100
TZOFFSETTO:+0200
END:DAYLIGHT
END:VTIMEZONE
END:VCALENDAR
