BEGIN:VCALENDAR
VERSION:2.0
PRODID:-//Plone.org//NONSGML plone.app.event//EN
X-WR-TIMEZONE:Europe/Zurich
BEGIN:VEVENT
SUMMARY:IN THIS MOMENT - Jazzkonzert aus NYC mit Crescendo Jazz
DTSTART;TZID=Europe/Zurich;VALUE=DATE-TIME:20210306T193000
DTSTAMP;VALUE=DATE-TIME:20260420T184721Z
UID:122fb2f352df4357b401699e520a15d7@localhost:10681
CREATED;VALUE=DATE-TIME:20210306T092425Z
LAST-MODIFIED;VALUE=DATE-TIME:20210306T092531Z
LOCATION:Basel
URL:https://www.bluechurch.ch/events/in-this-moment-jazzkonzert-aus-nyc-mi
 t-crescendo-jazz
END:VEVENT
BEGIN:VTIMEZONE
TZID:Europe/Zurich
X-LIC-LOCATION:Europe/Zurich
BEGIN:STANDARD
DTSTART;VALUE=DATE-TIME:20201025T020000
TZNAME:CET
TZOFFSETFROM:+0200
TZOFFSETTO:+0100
END:STANDARD
END:VTIMEZONE
END:VCALENDAR
