BEGIN:VCALENDAR
VERSION:2.0
PRODID:-//Plone.org//NONSGML plone.app.event//EN
X-WR-TIMEZONE:Europe/Zurich
BEGIN:VEVENT
SUMMARY:IN THIS MOMENT - Jazzkonzert aus der St.Peters Church NYC * Partne
 r: Crescendo Jazz / Basel
DTSTART;TZID=Europe/Zurich;VALUE=DATE-TIME:20201205T193000
DTSTAMP;VALUE=DATE-TIME:20260420T184643Z
UID:fada8ac077d14abeac65a5de21c3a448@localhost:10681
CREATED;VALUE=DATE-TIME:20201126T163613Z
LAST-MODIFIED;VALUE=DATE-TIME:20201126T163939Z
LOCATION:ONLINE
URL:https://www.bluechurch.ch/events/in-this-moment-jazzkonzert-aus-der-st
 -peters-church-nyc-mit-crescendo-jazz-basel
END:VEVENT
BEGIN:VTIMEZONE
TZID:Europe/Zurich
X-LIC-LOCATION:Europe/Zurich
BEGIN:STANDARD
DTSTART;VALUE=DATE-TIME:20201025T020000
TZNAME:CET
TZOFFSETFROM:+0200
TZOFFSETTO:+0100
END:STANDARD
END:VTIMEZONE
END:VCALENDAR
