BEGIN:VCALENDAR
VERSION:2.0
PRODID:-//Plone.org//NONSGML plone.app.event//EN
X-WR-TIMEZONE:Europe/Zurich
BEGIN:VEVENT
SUMMARY:IN THIS MOMENT - Jazzkonzert aus der St.Peters Church NYC mit Cres
 cendo Jazz
DTSTART;TZID=Europe/Zurich;VALUE=DATE-TIME:20210501T193000
DTSTAMP;VALUE=DATE-TIME:20260420T184607Z
UID:0ce4d6643c2c47249992c45714ccd607@localhost:10681
CREATED;VALUE=DATE-TIME:20210428T220537Z
LAST-MODIFIED;VALUE=DATE-TIME:20210428T220842Z
LOCATION:ONLINE
URL:https://www.bluechurch.ch/events/in-this-moment-jazzkonzert-aus-der-st
 -peters-church-nyc-mit-crescendo-jazz-basel-1
END:VEVENT
BEGIN:VTIMEZONE
TZID:Europe/Zurich
X-LIC-LOCATION:Europe/Zurich
BEGIN:DAYLIGHT
DTSTART;VALUE=DATE-TIME:20210328T030000
TZNAME:CEST
TZOFFSETFROM:+0100
TZOFFSETTO:+0200
END:DAYLIGHT
END:VTIMEZONE
END:VCALENDAR
