BEGIN:VCALENDAR
VERSION:2.0
PRODID:-//Plone.org//NONSGML plone.app.event//EN
X-WR-TIMEZONE:Europe/Zurich
BEGIN:VEVENT
SUMMARY:Gregorianik und Improvisationen
DTSTART;TZID=Europe/Zurich;VALUE=DATE-TIME:20210925T200000
DTSTAMP;VALUE=DATE-TIME:20260420T200050Z
UID:abe15f94ead44a9187fbd4d719bc0a0e@localhost:10681
CREATED;VALUE=DATE-TIME:20210917T111407Z
LAST-MODIFIED;VALUE=DATE-TIME:20210917T111407Z
LOCATION:Hofkirche
URL:https://www.bluechurch.ch/events/gregorianik-und-improvisationen
END:VEVENT
BEGIN:VTIMEZONE
TZID:Europe/Zurich
X-LIC-LOCATION:Europe/Zurich
BEGIN:DAYLIGHT
DTSTART;VALUE=DATE-TIME:20210328T030000
TZNAME:CEST
TZOFFSETFROM:+0100
TZOFFSETTO:+0200
END:DAYLIGHT
END:VTIMEZONE
END:VCALENDAR
