BEGIN:VCALENDAR
VERSION:2.0
PRODID:-//Plone.org//NONSGML plone.app.event//EN
X-WR-TIMEZONE:Europe/Zurich
BEGIN:VEVENT
SUMMARY:Gottesdienst
DTSTART;TZID=Europe/Zurich;VALUE=DATE-TIME:20220206T193000
DTSTAMP;VALUE=DATE-TIME:20260420T213036Z
UID:b3be265d9f864cdc8996578a7cbf8c7d@localhost:10681
CREATED;VALUE=DATE-TIME:20220205T201159Z
LAST-MODIFIED;VALUE=DATE-TIME:20220205T201159Z
LOCATION:Casappella\, Längackerweg 14
URL:https://www.bluechurch.ch/events/gottesdienst
END:VEVENT
BEGIN:VTIMEZONE
TZID:Europe/Zurich
X-LIC-LOCATION:Europe/Zurich
BEGIN:STANDARD
DTSTART;VALUE=DATE-TIME:20211031T020000
TZNAME:CET
TZOFFSETFROM:+0200
TZOFFSETTO:+0100
END:STANDARD
END:VTIMEZONE
END:VCALENDAR
