BEGIN:VCALENDAR
VERSION:2.0
PRODID:-//Plone.org//NONSGML plone.app.event//EN
X-WR-TIMEZONE:Europe/Zurich
BEGIN:VEVENT
SUMMARY:Gottesdienst zur Christnacht
DTSTART;TZID=Europe/Zurich;VALUE=DATE-TIME:20191224T220000
DTSTAMP;VALUE=DATE-TIME:20260420T153234Z
UID:42e6a0fd60ab4158a43e75651fc09a7a@localhost:10681
CREATED;VALUE=DATE-TIME:20191223T153024Z
LAST-MODIFIED;VALUE=DATE-TIME:20191223T153025Z
LOCATION:Michaelskirche
URL:https://www.bluechurch.ch/events/gottesdienst-zur-christnacht-1
END:VEVENT
BEGIN:VTIMEZONE
TZID:Europe/Zurich
X-LIC-LOCATION:Europe/Zurich
BEGIN:STANDARD
DTSTART;VALUE=DATE-TIME:20191027T020000
TZNAME:CET
TZOFFSETFROM:+0200
TZOFFSETTO:+0100
END:STANDARD
END:VTIMEZONE
END:VCALENDAR
