BEGIN:VCALENDAR
VERSION:2.0
PRODID:-//Plone.org//NONSGML plone.app.event//EN
X-WR-TIMEZONE:Europe/Zurich
BEGIN:VEVENT
SUMMARY:Gottesdienst mit Kirchenlieder-Jam-Session
DTSTART;TZID=Europe/Zurich;VALUE=DATE-TIME:20220223T100000
DTSTAMP;VALUE=DATE-TIME:20260420T213327Z
UID:241dac346ca746d8acc0f74e16f693fc@localhost:10681
CREATED;VALUE=DATE-TIME:20220223T142638Z
LAST-MODIFIED;VALUE=DATE-TIME:20220223T142639Z
LOCATION:Fronwaagplatz
URL:https://www.bluechurch.ch/events/gottesdienst-mit-kirchenlieder-jam-se
 ssion
END:VEVENT
BEGIN:VTIMEZONE
TZID:Europe/Zurich
X-LIC-LOCATION:Europe/Zurich
BEGIN:STANDARD
DTSTART;VALUE=DATE-TIME:20211031T020000
TZNAME:CET
TZOFFSETFROM:+0200
TZOFFSETTO:+0100
END:STANDARD
END:VTIMEZONE
END:VCALENDAR
