BEGIN:VCALENDAR
VERSION:2.0
PRODID:-//Plone.org//NONSGML plone.app.event//EN
X-WR-TIMEZONE:Europe/Zurich
BEGIN:VEVENT
SUMMARY:Gott verbirgt sich hinter allem …
DTSTART;TZID=Europe/Zurich;VALUE=DATE-TIME:20200227T200000
DTSTAMP;VALUE=DATE-TIME:20260420T170522Z
UID:2160addbee3042d1ad7af384225c5032@localhost:10681
CREATED;VALUE=DATE-TIME:20191208T094019Z
LAST-MODIFIED;VALUE=DATE-TIME:20191208T094221Z
LOCATION:Hauptkirche St. Michaelis
URL:https://www.bluechurch.ch/events/gott-verbirgt-sich-hinter-allem
END:VEVENT
BEGIN:VTIMEZONE
TZID:Europe/Zurich
X-LIC-LOCATION:Europe/Zurich
BEGIN:STANDARD
DTSTART;VALUE=DATE-TIME:20191027T020000
TZNAME:CET
TZOFFSETFROM:+0200
TZOFFSETTO:+0100
END:STANDARD
END:VTIMEZONE
END:VCALENDAR
