BEGIN:VCALENDAR
VERSION:2.0
PRODID:-//Plone.org//NONSGML plone.app.event//EN
X-WR-TIMEZONE:Europe/Zurich
BEGIN:VEVENT
SUMMARY:Gospel-meets-Jazz-Gottesdienst
DTSTART;TZID=Europe/Zurich;VALUE=DATE-TIME:20190707T173000
DTSTAMP;VALUE=DATE-TIME:20260420T153154Z
UID:b10900f2aa6f4524adf18197c058bcce@localhost:10681
CREATED;VALUE=DATE-TIME:20190602T073847Z
LAST-MODIFIED;VALUE=DATE-TIME:20190602T073847Z
LOCATION:Gospelkirche
URL:https://www.bluechurch.ch/events/gospel-meets-jazz-gottesdienst
END:VEVENT
BEGIN:VTIMEZONE
TZID:Europe/Zurich
X-LIC-LOCATION:Europe/Zurich
BEGIN:DAYLIGHT
DTSTART;VALUE=DATE-TIME:20190331T030000
TZNAME:CEST
TZOFFSETFROM:+0100
TZOFFSETTO:+0200
END:DAYLIGHT
END:VTIMEZONE
END:VCALENDAR
