BEGIN:VCALENDAR
VERSION:2.0
PRODID:-//Plone.org//NONSGML plone.app.event//EN
X-WR-TIMEZONE:Europe/Zurich
BEGIN:VEVENT
SUMMARY:Gospel-meets-Jazz-Gottesdienst
DTSTART;TZID=Europe/Zurich;VALUE=DATE-TIME:20191103T183000
DTSTAMP;VALUE=DATE-TIME:20260420T170614Z
UID:a6216def613040518e0e073aaf7cad3c@localhost:10681
CREATED;VALUE=DATE-TIME:20190605T115708Z
LAST-MODIFIED;VALUE=DATE-TIME:20190605T115728Z
LOCATION:Gospelkirche Hannover
URL:https://www.bluechurch.ch/events/gospel-meets-jazz-gottesdienst-2
END:VEVENT
BEGIN:VTIMEZONE
TZID:Europe/Zurich
X-LIC-LOCATION:Europe/Zurich
BEGIN:STANDARD
DTSTART;VALUE=DATE-TIME:20191027T020000
TZNAME:CET
TZOFFSETFROM:+0200
TZOFFSETTO:+0100
END:STANDARD
END:VTIMEZONE
END:VCALENDAR
