BEGIN:VCALENDAR
VERSION:2.0
PRODID:-//Plone.org//NONSGML plone.app.event//EN
X-WR-TIMEZONE:Europe/Zurich
BEGIN:VEVENT
SUMMARY:Gospel-meets-Jazz-Gottesdienst
DTSTART;TZID=Europe/Zurich;VALUE=DATE-TIME:20191006T173000
DTSTAMP;VALUE=DATE-TIME:20260420T135546Z
UID:b97aad3c33f44549b53f2abc4007dfd0@localhost:10681
CREATED;VALUE=DATE-TIME:20190605T115610Z
LAST-MODIFIED;VALUE=DATE-TIME:20190605T115813Z
LOCATION:Gospelkirche
URL:https://www.bluechurch.ch/events/gospel-meets-jazz-gottesdienst-1
END:VEVENT
BEGIN:VTIMEZONE
TZID:Europe/Zurich
X-LIC-LOCATION:Europe/Zurich
BEGIN:DAYLIGHT
DTSTART;VALUE=DATE-TIME:20190331T030000
TZNAME:CEST
TZOFFSETFROM:+0100
TZOFFSETTO:+0200
END:DAYLIGHT
END:VTIMEZONE
END:VCALENDAR
