BEGIN:VCALENDAR
VERSION:2.0
PRODID:-//Plone.org//NONSGML plone.app.event//EN
X-WR-TIMEZONE:Europe/Zurich
BEGIN:VEVENT
SUMMARY:friends\, plural: friends
DTSTART;TZID=Europe/Zurich;VALUE=DATE-TIME:20180415T180000
DTSTAMP;VALUE=DATE-TIME:20260420T120023Z
UID:1ca06a6647944ae1bdeaf68ad0a7ad7d@localhost:10681
CREATED;VALUE=DATE-TIME:20180115T140210Z
LAST-MODIFIED;VALUE=DATE-TIME:20180115T140423Z
LOCATION:Neanderkirche
URL:https://www.bluechurch.ch/events/friends-plural-friends
END:VEVENT
BEGIN:VTIMEZONE
TZID:Europe/Zurich
X-LIC-LOCATION:Europe/Zurich
BEGIN:DAYLIGHT
DTSTART;VALUE=DATE-TIME:20180325T030000
TZNAME:CEST
TZOFFSETFROM:+0100
TZOFFSETTO:+0200
END:DAYLIGHT
END:VTIMEZONE
END:VCALENDAR
