BEGIN:VCALENDAR
VERSION:2.0
PRODID:-//Plone.org//NONSGML plone.app.event//EN
X-WR-TIMEZONE:Europe/Zurich
BEGIN:VEVENT
SUMMARY:Friday Night Jam
DTSTART;TZID=Europe/Zurich;VALUE=DATE-TIME:20191122T200000
DTSTAMP;VALUE=DATE-TIME:20260420T152819Z
UID:91c96eaa44204b1f873eebe57feac5f9@localhost:10681
CREATED;VALUE=DATE-TIME:20191106T122030Z
LAST-MODIFIED;VALUE=DATE-TIME:20191106T122030Z
LOCATION:Schwarzwaldallee 175
URL:https://www.bluechurch.ch/events/friday-night-jam
END:VEVENT
BEGIN:VTIMEZONE
TZID:Europe/Zurich
X-LIC-LOCATION:Europe/Zurich
BEGIN:STANDARD
DTSTART;VALUE=DATE-TIME:20191027T020000
TZNAME:CET
TZOFFSETFROM:+0200
TZOFFSETTO:+0100
END:STANDARD
END:VTIMEZONE
END:VCALENDAR
