BEGIN:VCALENDAR
VERSION:2.0
PRODID:-//Plone.org//NONSGML plone.app.event//EN
X-WR-TIMEZONE:Europe/Zurich
BEGIN:VEVENT
SUMMARY:FRIDAY NIGHT JAM Open Jam Session in Clubatmosphäre
DTSTART;TZID=Europe/Zurich;VALUE=DATE-TIME:20221021T193000
DTSTAMP;VALUE=DATE-TIME:20260420T231741Z
UID:0fcf304cb14a4b07b2f7da736984e622@localhost:10681
CREATED;VALUE=DATE-TIME:20221016T214426Z
LAST-MODIFIED;VALUE=DATE-TIME:20221016T214426Z
LOCATION:FORUM ROYAL Schwarzwaldallee 175 vis-ä-vis Bad.Bahnhof
URL:https://www.bluechurch.ch/events/friday-night-jam-open-jam-session-in-
 clubatmosphaere
END:VEVENT
BEGIN:VTIMEZONE
TZID:Europe/Zurich
X-LIC-LOCATION:Europe/Zurich
BEGIN:DAYLIGHT
DTSTART;VALUE=DATE-TIME:20220327T030000
TZNAME:CEST
TZOFFSETFROM:+0100
TZOFFSETTO:+0200
END:DAYLIGHT
END:VTIMEZONE
END:VCALENDAR
