BEGIN:VCALENDAR
VERSION:2.0
PRODID:-//Plone.org//NONSGML plone.app.event//EN
X-WR-TIMEZONE:Europe/Zurich
BEGIN:VEVENT
SUMMARY:FRIDAY NIGHT JAM
DTSTART;TZID=Europe/Zurich;VALUE=DATE-TIME:20220408T193000
DTSTAMP;VALUE=DATE-TIME:20260420T213000Z
UID:57b165a13f064beea713be1ef99f8fbf@localhost:10681
CREATED;VALUE=DATE-TIME:20220331T202409Z
LAST-MODIFIED;VALUE=DATE-TIME:20220331T202409Z
LOCATION:Schwarzwaldallee 175 vis-à-vis Bad.Bahnhof
URL:https://www.bluechurch.ch/events/friday-night-jam-8
END:VEVENT
BEGIN:VTIMEZONE
TZID:Europe/Zurich
X-LIC-LOCATION:Europe/Zurich
BEGIN:DAYLIGHT
DTSTART;VALUE=DATE-TIME:20220327T030000
TZNAME:CEST
TZOFFSETFROM:+0100
TZOFFSETTO:+0200
END:DAYLIGHT
END:VTIMEZONE
END:VCALENDAR
