BEGIN:VCALENDAR
VERSION:2.0
PRODID:-//Plone.org//NONSGML plone.app.event//EN
X-WR-TIMEZONE:Europe/Zurich
BEGIN:VEVENT
SUMMARY:FRIDAY NIGHT JAM
DTSTART;TZID=Europe/Zurich;VALUE=DATE-TIME:20220408T200000
DTSTAMP;VALUE=DATE-TIME:20260420T213000Z
UID:9676ee13ce3c472dbbb1b2d13633a6e2@localhost:10681
CREATED;VALUE=DATE-TIME:20220215T212828Z
LAST-MODIFIED;VALUE=DATE-TIME:20220215T212828Z
LOCATION:Schwarzwaldallee 175 vis-à-vis Bad.Bahnhof
URL:https://www.bluechurch.ch/events/friday-night-jam-7
END:VEVENT
BEGIN:VTIMEZONE
TZID:Europe/Zurich
X-LIC-LOCATION:Europe/Zurich
BEGIN:DAYLIGHT
DTSTART;VALUE=DATE-TIME:20220327T030000
TZNAME:CEST
TZOFFSETFROM:+0100
TZOFFSETTO:+0200
END:DAYLIGHT
END:VTIMEZONE
END:VCALENDAR
