BEGIN:VCALENDAR
VERSION:2.0
PRODID:-//Plone.org//NONSGML plone.app.event//EN
X-WR-TIMEZONE:Europe/Zurich
BEGIN:VEVENT
SUMMARY:FRIDAY NIGHT JAM
DTSTART;TZID=Europe/Zurich;VALUE=DATE-TIME:20211203T200000
DTSTAMP;VALUE=DATE-TIME:20260420T213807Z
UID:5edf3a20d47f4ee59bbf8f968e0a92b8@localhost:10681
CREATED;VALUE=DATE-TIME:20210829T103957Z
LAST-MODIFIED;VALUE=DATE-TIME:20210829T103957Z
LOCATION:Basel\, Schwarzwaldallee 175 vis-ä-vis Bad.Bahnhof
URL:https://www.bluechurch.ch/events/friday-night-jam-5
END:VEVENT
BEGIN:VTIMEZONE
TZID:Europe/Zurich
X-LIC-LOCATION:Europe/Zurich
BEGIN:STANDARD
DTSTART;VALUE=DATE-TIME:20211031T020000
TZNAME:CET
TZOFFSETFROM:+0200
TZOFFSETTO:+0100
END:STANDARD
END:VTIMEZONE
END:VCALENDAR
