BEGIN:VCALENDAR
VERSION:2.0
PRODID:-//Plone.org//NONSGML plone.app.event//EN
X-WR-TIMEZONE:Europe/Zurich
BEGIN:VEVENT
SUMMARY:FRIDAY NIGHT JAM
DTSTART;TZID=Europe/Zurich;VALUE=DATE-TIME:20211022T200000
DTSTAMP;VALUE=DATE-TIME:20260420T195431Z
UID:a7152cbcfee24f93b90ee4d6c552698e@localhost:10681
CREATED;VALUE=DATE-TIME:20210829T103700Z
LAST-MODIFIED;VALUE=DATE-TIME:20210829T103742Z
LOCATION:Basel\, Schwarzwaldallee 175 vis-ä-vis Bad.Bahnhof
URL:https://www.bluechurch.ch/events/friday-night-jam-4
END:VEVENT
BEGIN:VTIMEZONE
TZID:Europe/Zurich
X-LIC-LOCATION:Europe/Zurich
BEGIN:DAYLIGHT
DTSTART;VALUE=DATE-TIME:20210328T030000
TZNAME:CEST
TZOFFSETFROM:+0100
TZOFFSETTO:+0200
END:DAYLIGHT
END:VTIMEZONE
END:VCALENDAR
