BEGIN:VCALENDAR
VERSION:2.0
PRODID:-//Plone.org//NONSGML plone.app.event//EN
X-WR-TIMEZONE:Europe/Zurich
BEGIN:VEVENT
SUMMARY:Friday Night Jam
DTSTART;TZID=Europe/Zurich;VALUE=DATE-TIME:20201023T200000
DTSTAMP;VALUE=DATE-TIME:20260420T170026Z
UID:13f3c1ef39e94d1b98ec89952f54f50f@localhost:10681
CREATED;VALUE=DATE-TIME:20200815T112359Z
LAST-MODIFIED;VALUE=DATE-TIME:20200815T112359Z
LOCATION:FORUM ROYAL\, Schwarzwaldallee 175 (gegenüber Bad.Bahnhof)
URL:https://www.bluechurch.ch/events/friday-night-jam-2
END:VEVENT
BEGIN:VTIMEZONE
TZID:Europe/Zurich
X-LIC-LOCATION:Europe/Zurich
BEGIN:DAYLIGHT
DTSTART;VALUE=DATE-TIME:20200329T030000
TZNAME:CEST
TZOFFSETFROM:+0100
TZOFFSETTO:+0200
END:DAYLIGHT
END:VTIMEZONE
END:VCALENDAR
