BEGIN:VCALENDAR
VERSION:2.0
PRODID:-//Plone.org//NONSGML plone.app.event//EN
X-WR-TIMEZONE:Europe/Zurich
BEGIN:VEVENT
SUMMARY:FREUE DICH WELT  - BlueChurch Ensemble Berlin live
DTSTART;TZID=Europe/Zurich;VALUE=DATE-TIME:20210103T180000
DTSTAMP;VALUE=DATE-TIME:20260420T184053Z
UID:f617448230ee42598bed0ddd7823e438@localhost:10681
CREATED;VALUE=DATE-TIME:20210101T205625Z
LAST-MODIFIED;VALUE=DATE-TIME:20210101T205625Z
LOCATION:Kaiser-Wilhelm-Gedächtnis-Kirche Berlin
URL:https://www.bluechurch.ch/events/freue-dich-welt-bluechurch-ensemble-b
 erlin-live
END:VEVENT
BEGIN:VTIMEZONE
TZID:Europe/Zurich
X-LIC-LOCATION:Europe/Zurich
BEGIN:STANDARD
DTSTART;VALUE=DATE-TIME:20201025T020000
TZNAME:CET
TZOFFSETFROM:+0200
TZOFFSETTO:+0100
END:STANDARD
END:VTIMEZONE
END:VCALENDAR
