BEGIN:VCALENDAR
VERSION:2.0
PRODID:-//Plone.org//NONSGML plone.app.event//EN
X-WR-TIMEZONE:Europe/Zurich
BEGIN:VEVENT
SUMMARY:FRANK SINATRA "The Voice" Vinyl-Live- Gottesdienst mit Georg M. Ba
 iley
DTSTART;TZID=Europe/Zurich;VALUE=DATE-TIME:20260322T180000
DTSTAMP;VALUE=DATE-TIME:20260420T103205Z
UID:c8e1e37cb2a84cdba0114b69bc83c2d6@localhost:10681
CREATED;VALUE=DATE-TIME:20260301T192556Z
LAST-MODIFIED;VALUE=DATE-TIME:20260301T192557Z
LOCATION:Erlöserkirche\, Birkenwaldstrasse 24\, Stuttgart
URL:https://www.bluechurch.ch/events/frank-sinatra-the-voice-vinyl-live-go
 ttesdienst-mit-georg-m-bailey
END:VEVENT
BEGIN:VTIMEZONE
TZID:Europe/Zurich
X-LIC-LOCATION:Europe/Zurich
BEGIN:STANDARD
DTSTART;VALUE=DATE-TIME:20251026T020000
TZNAME:CET
TZOFFSETFROM:+0200
TZOFFSETTO:+0100
END:STANDARD
END:VTIMEZONE
END:VCALENDAR
