BEGIN:VCALENDAR
VERSION:2.0
PRODID:-//Plone.org//NONSGML plone.app.event//EN
X-WR-TIMEZONE:Europe/Zurich
BEGIN:VEVENT
SUMMARY:Fragile Religion
DTSTART;TZID=Europe/Zurich;VALUE=DATE-TIME:20190621T203000
DTSTAMP;VALUE=DATE-TIME:20260420T152825Z
UID:c7fdb5332d194ac588ee6c610156b42f@localhost:10681
CREATED;VALUE=DATE-TIME:20190328T163037Z
LAST-MODIFIED;VALUE=DATE-TIME:20190328T163037Z
LOCATION:Lütgendortmund\, Bartholomäuskirche
URL:https://www.bluechurch.ch/events/fragile-religion
END:VEVENT
BEGIN:VTIMEZONE
TZID:Europe/Zurich
X-LIC-LOCATION:Europe/Zurich
BEGIN:DAYLIGHT
DTSTART;VALUE=DATE-TIME:20190331T030000
TZNAME:CEST
TZOFFSETFROM:+0100
TZOFFSETTO:+0200
END:DAYLIGHT
END:VTIMEZONE
END:VCALENDAR
