BEGIN:VCALENDAR
VERSION:2.0
PRODID:-//Plone.org//NONSGML plone.app.event//EN
X-WR-TIMEZONE:Europe/Zurich
BEGIN:VEVENT
SUMMARY:Evensong
DTSTART;TZID=Europe/Zurich;VALUE=DATE-TIME:20190308T190000
DTSTAMP;VALUE=DATE-TIME:20260420T170016Z
UID:9079500e0cc940f88f57eea631d0a8f6@localhost:10681
CREATED;VALUE=DATE-TIME:20190202T115944Z
LAST-MODIFIED;VALUE=DATE-TIME:20190202T115944Z
LOCATION:Helferei\, Breitinger-Saal\, Kirchgasse 13
URL:https://www.bluechurch.ch/events/evensong
END:VEVENT
BEGIN:VTIMEZONE
TZID:Europe/Zurich
X-LIC-LOCATION:Europe/Zurich
BEGIN:STANDARD
DTSTART;VALUE=DATE-TIME:20181028T020000
TZNAME:CET
TZOFFSETFROM:+0200
TZOFFSETTO:+0100
END:STANDARD
END:VTIMEZONE
END:VCALENDAR
