BEGIN:VCALENDAR
VERSION:2.0
PRODID:-//Plone.org//NONSGML plone.app.event//EN
X-WR-TIMEZONE:Europe/Zurich
BEGIN:VEVENT
SUMMARY:EvenJazz zum World Jazz Day mit dem Daniel Masuch Trio
DTSTART;TZID=Europe/Zurich;VALUE=DATE-TIME:20260508T110000
DTSTAMP;VALUE=DATE-TIME:20260421T105357Z
UID:24ffbd3583c14962b26ad33477ea8c98@localhost:10681
CREATED;VALUE=DATE-TIME:20260410T095324Z
LAST-MODIFIED;VALUE=DATE-TIME:20260410T095804Z
LOCATION:Erlöserkirche
URL:https://www.bluechurch.ch/events/evenjazz-3
END:VEVENT
BEGIN:VTIMEZONE
TZID:Europe/Zurich
X-LIC-LOCATION:Europe/Zurich
BEGIN:DAYLIGHT
DTSTART;VALUE=DATE-TIME:20260329T030000
TZNAME:CEST
TZOFFSETFROM:+0100
TZOFFSETTO:+0200
END:DAYLIGHT
END:VTIMEZONE
END:VCALENDAR
