BEGIN:VCALENDAR
VERSION:2.0
PRODID:-//Plone.org//NONSGML plone.app.event//EN
X-WR-TIMEZONE:Europe/Zurich
BEGIN:VEVENT
SUMMARY:Einsiedler Marienvesper\, Gregorianischer Gesang und Saxophon Impr
 ovisationen
DTSTART;TZID=Europe/Zurich;VALUE=DATE-TIME:20190707T170000
DTSTAMP;VALUE=DATE-TIME:20260420T152957Z
UID:aed4fd44793e45e1be9a25176a973ef7@localhost:10681
CREATED;VALUE=DATE-TIME:20190616T095413Z
LAST-MODIFIED;VALUE=DATE-TIME:20190624T122918Z
LOCATION:Stiftskirche
URL:https://www.bluechurch.ch/events/einsiedler-marienvesper
END:VEVENT
BEGIN:VTIMEZONE
TZID:Europe/Zurich
X-LIC-LOCATION:Europe/Zurich
BEGIN:DAYLIGHT
DTSTART;VALUE=DATE-TIME:20190331T030000
TZNAME:CEST
TZOFFSETFROM:+0100
TZOFFSETTO:+0200
END:DAYLIGHT
END:VTIMEZONE
END:VCALENDAR
