BEGIN:VCALENDAR
VERSION:2.0
PRODID:-//Plone.org//NONSGML plone.app.event//EN
X-WR-TIMEZONE:Europe/Zurich
BEGIN:VEVENT
SUMMARY:eastPLUGGRD(R) 25 Festival Tag 3: TONBRUKET "to eastplugged"
DTSTART;TZID=Europe/Zurich;VALUE=DATE-TIME:20211031T193000
DTSTAMP;VALUE=DATE-TIME:20260420T200937Z
UID:4e7be76c8df44273a1327a2ab9b26afa@localhost:10681
CREATED;VALUE=DATE-TIME:20210314T131025Z
LAST-MODIFIED;VALUE=DATE-TIME:20210830T094115Z
LOCATION:Friedenskirche\, Hegelstrasse 16
URL:https://www.bluechurch.ch/events/eastpluggrd-r-festival-tag-3
END:VEVENT
BEGIN:VTIMEZONE
TZID:Europe/Zurich
X-LIC-LOCATION:Europe/Zurich
BEGIN:STANDARD
DTSTART;VALUE=DATE-TIME:20211031T020000
TZNAME:CET
TZOFFSETFROM:+0200
TZOFFSETTO:+0100
END:STANDARD
END:VTIMEZONE
END:VCALENDAR
