BEGIN:VCALENDAR
VERSION:2.0
PRODID:-//Plone.org//NONSGML plone.app.event//EN
X-WR-TIMEZONE:Europe/Zurich
BEGIN:VEVENT
SUMMARY:eastPLUGGED(R) Junior Award 2018/19 Siegerkonzert
DTSTART;TZID=Europe/Zurich;VALUE=DATE-TIME:20191117T180000
DTSTAMP;VALUE=DATE-TIME:20260420T153339Z
UID:1e9737b3a75d417da15ed76fccd34d3b@localhost:10681
CREATED;VALUE=DATE-TIME:20190622T182112Z
LAST-MODIFIED;VALUE=DATE-TIME:20190716T100657Z
LOCATION:Friedenskirche Hegelstrasse 16
URL:https://www.bluechurch.ch/events/eastplugged-r-junior-award-2018-19-si
 egerkonzert
END:VEVENT
BEGIN:VTIMEZONE
TZID:Europe/Zurich
X-LIC-LOCATION:Europe/Zurich
BEGIN:STANDARD
DTSTART;VALUE=DATE-TIME:20191027T020000
TZNAME:CET
TZOFFSETFROM:+0200
TZOFFSETTO:+0100
END:STANDARD
END:VTIMEZONE
END:VCALENDAR
