BEGIN:VCALENDAR
VERSION:2.0
PRODID:-//Plone.org//NONSGML plone.app.event//EN
X-WR-TIMEZONE:Europe/Zurich
BEGIN:VEVENT
SUMMARY:eastPLUGGED(R) 25 Festival Tag 2: Thierry Lang\, Heiri Känzig\, M
 atthieu Michel "Celebrations"
DTSTART;TZID=Europe/Zurich;VALUE=DATE-TIME:20211030T193000
DTSTAMP;VALUE=DATE-TIME:20260420T200458Z
UID:88a53a76ef834c85ba75cf1c9e8ed8eb@localhost:10681
CREATED;VALUE=DATE-TIME:20210314T130806Z
LAST-MODIFIED;VALUE=DATE-TIME:20210830T094006Z
LOCATION:Friedenskirche\, Hegelstrasse 16
URL:https://www.bluechurch.ch/events/eastplugged-r-festival
END:VEVENT
BEGIN:VTIMEZONE
TZID:Europe/Zurich
X-LIC-LOCATION:Europe/Zurich
BEGIN:DAYLIGHT
DTSTART;VALUE=DATE-TIME:20210328T030000
TZNAME:CEST
TZOFFSETFROM:+0100
TZOFFSETTO:+0200
END:DAYLIGHT
END:VTIMEZONE
END:VCALENDAR
